BEGIN:VCALENDAR
VERSION:2.0
PRODID:-// - ECPv6.15.20//NONSGML v1.0//EN
CALSCALE:GREGORIAN
METHOD:PUBLISH
X-ORIGINAL-URL:https://arbeitsgemeinschaft-ruebelandbahn.de
X-WR-CALDESC:Veranstaltungen für 
REFRESH-INTERVAL;VALUE=DURATION:PT1H
X-Robots-Tag:noindex
X-PUBLISHED-TTL:PT1H
BEGIN:VTIMEZONE
TZID:Europe/Berlin
BEGIN:DAYLIGHT
TZOFFSETFROM:+0100
TZOFFSETTO:+0200
TZNAME:CEST
DTSTART:20250330T010000
END:DAYLIGHT
BEGIN:STANDARD
TZOFFSETFROM:+0200
TZOFFSETTO:+0100
TZNAME:CET
DTSTART:20251026T010000
END:STANDARD
BEGIN:DAYLIGHT
TZOFFSETFROM:+0100
TZOFFSETTO:+0200
TZNAME:CEST
DTSTART:20260329T010000
END:DAYLIGHT
BEGIN:STANDARD
TZOFFSETFROM:+0200
TZOFFSETTO:+0100
TZNAME:CET
DTSTART:20261025T010000
END:STANDARD
BEGIN:DAYLIGHT
TZOFFSETFROM:+0100
TZOFFSETTO:+0200
TZNAME:CEST
DTSTART:20270328T010000
END:DAYLIGHT
BEGIN:STANDARD
TZOFFSETFROM:+0200
TZOFFSETTO:+0100
TZNAME:CET
DTSTART:20271031T010000
END:STANDARD
END:VTIMEZONE
BEGIN:VEVENT
DTSTART;TZID=Europe/Berlin:20261128T130000
DTEND;TZID=Europe/Berlin:20261128T200000
DTSTAMP:20260425T122237
CREATED:20241127T150037Z
LAST-MODIFIED:20260128T121615Z
UID:1982-1795870800-1795896000@arbeitsgemeinschaft-ruebelandbahn.de
SUMMARY:28.11.2026 WeihachtsMarktExpress
DESCRIPTION:Fahrkartenverkauf ab 13:00 Uhr im Bahnhof Blankenburg (Harz) \n14:00 Uhr Abfahrt Blankenburg (Harz)\n14:31 Uhr Ankunft Halberstadt \n15:25 Uhr Abfahrt Halberstadt\n15:56Uhr Ankunft Blankenburg (Harz) \n18:00 Uhr Abfahrt Blankenburg (Harz)\n18:31 Uhr Ankunft Halberstadt \n19:25 Uhr Abfahrt Halberstadt\n19:56 Uhr Ankunft Blankenburg (Harz) \nSteigen Sie ein in den WeihnachtsMarktExpress! Verbinden Sie die festliche Stimmung zweier Städte – Blankenburg (Harz) und Halberstadt – mit einer zauberhaften Zugfahrt durch weihnachtliche Landschaften.\nIn Blankenburg (Harz) erwartet Sie ein besonderes Erlebnis: die SchlossWeihnacht auf dem Großen Schloß\, ein historisches Ambiente\, das mit festlichen Lichtern und Klängen zum Verweilen einlädt.\nIn Halberstadt hingegen können Sie gleich zwei Weihnachtsmärkte erkunden: die stimmungsvollen Weihnachtshöfe und den klassischen Weihnachtsmarkt am Rathaus – eine doppelte Portion Weihnachtszauber!\nDer WeihnachtsMarktExpress fährt um 14:00 Uhr ab Blankenburg (Harz) und erreicht Halberstadt um 14:31 Uhr. In Halberstadt nutzen Sie die Straßenbahn Linie 1 um 15:03 Uhr Richtung Holzmarkt\, von wo aus Sie bequem zu Fuß zum Weihnachtsmarkt und den WeihnachtsHöfen gelangen.\nVon Halberstadt aus können Sie um 15:25 Uhr nach Blankenburg (Harz)\, mit Ankunft um 15:56 Uhr\, fahren. Dort steht ein Bustransfer bereit\, der Sie direkt zur SchlossWeihnacht auf dem Großen Schloß bringt.\nGenießen Sie die festliche Zeit vor Ort\, bevor Sie der Bustransfer um 17:45 Uhr wieder zurück zum Bahnhof Blankenburg (Harz) fährt.\nUm 17:08 Uhr haben Sie dann die Möglichkeit\, mit der Linie 2 wieder zum Bahnhof Halberstadt zurückzukehren.\nFür den späteren Rückweg steht Ihnen der WeihnachtsMarktExpress nochmals zur Verfügung: Abfahrt in Blankenburg (Harz) um 18:00 Uhr\, Ankunft in Halberstadt um 18:31 Uhr und die letzte Rückfahrt des Tages erfolgt in Halberstadt um 19:25 Uhr mit Ankunft in Blankenburg (Harz) um 19:56Uhr.\nVerpassen Sie nicht diese einmalige Chance\, die Adventszeit in einer ganz besonderen Atmosphäre zu genießen. Wir freuen uns auf Sie im WeihnachtsMarktExpress!
URL:https://arbeitsgemeinschaft-ruebelandbahn.de/veranstaltungen/28-11-2026-weihachtsmarktexpress/
LOCATION:Rübelandbahn\, Bahnhofstr. 4\, Blankenburg Harz\, Sachsen Anhalt\, 38889\, Deutschland
ATTACH;FMTTYPE=image/jpeg:https://arbeitsgemeinschaft-ruebelandbahn.de/wp-content/uploads/2026/01/Weihnachtsmarkt-Express-2.jpg
ORGANIZER;CN="Arbeitsgemeinschaft-R%C3%BCbelandbahn":MAILTO:s.nickell@online.de
END:VEVENT
BEGIN:VEVENT
DTSTART;TZID=Europe/Berlin:20261129T130000
DTEND;TZID=Europe/Berlin:20261129T170000
DTSTAMP:20260425T122237
CREATED:20241125T102905Z
LAST-MODIFIED:20260212T064755Z
UID:1984-1795957200-1795971600@arbeitsgemeinschaft-ruebelandbahn.de
SUMMARY:29.11.2026 Rübelandbahn Advent Express
DESCRIPTION:Fahrkartenverkauf ab 12:00 Uhr im Bahnhof Blankenburg (Harz) \nAbfahrt Blankenburg (Harz)   13:15 Uhr \nAnkunft Rübeland 13:55 Uhr \nAbfahrt Rübeland 15:55 Uhr \nAnkunft Blankenburg ( Harz ) 16:40 Uhr \nAdvendsExpress \nDie nächsten Sonderfahrten finden am Sonntag\, den 05.12.2026 statt.\nfährt die Rübelandbahn auf einer der schönsten und sehenswertesten Steilstrecken durch den Harzer Wald\, bis hin nach Rübeland. Genießen Sie mit uns den 2 Advent. \nLos geht es wie immer am Bahnhof in Blankenburg (Harz) um 13.15 Uhr\nAnkunft in Rübeland am Bahnhof ist dann um 14.00 Uhr.\nZurück nach Blankenburg (Harz) geht es dann wieder vom Bahnhof Rübeland um 15.55 Uhr\, so dass Sie um 16.40 Uhr im Bahnhof Blankenburg (Harz) ankommen
URL:https://arbeitsgemeinschaft-ruebelandbahn.de/veranstaltungen/30-11-2025-ruebelandbahn-advent-express/
LOCATION:Rübelandbahn\, Bahnhofstr. 4\, Blankenburg Harz\, Sachsen Anhalt\, 38889\, Deutschland
ATTACH;FMTTYPE=image/jpeg:https://arbeitsgemeinschaft-ruebelandbahn.de/wp-content/uploads/2026/01/November-2.jpg
ORGANIZER;CN="Arbeitsgemeinschaft-R%C3%BCbelandbahn":MAILTO:s.nickell@online.de
END:VEVENT
END:VCALENDAR