BEGIN:VCALENDAR
VERSION:2.0
PRODID:-// - ECPv6.15.20//NONSGML v1.0//EN
CALSCALE:GREGORIAN
METHOD:PUBLISH
X-ORIGINAL-URL:https://arbeitsgemeinschaft-ruebelandbahn.de
X-WR-CALDESC:Veranstaltungen für 
REFRESH-INTERVAL;VALUE=DURATION:PT1H
X-Robots-Tag:noindex
X-PUBLISHED-TTL:PT1H
BEGIN:VTIMEZONE
TZID:Europe/Berlin
BEGIN:DAYLIGHT
TZOFFSETFROM:+0100
TZOFFSETTO:+0200
TZNAME:CEST
DTSTART:20250330T010000
END:DAYLIGHT
BEGIN:STANDARD
TZOFFSETFROM:+0200
TZOFFSETTO:+0100
TZNAME:CET
DTSTART:20251026T010000
END:STANDARD
BEGIN:DAYLIGHT
TZOFFSETFROM:+0100
TZOFFSETTO:+0200
TZNAME:CEST
DTSTART:20260329T010000
END:DAYLIGHT
BEGIN:STANDARD
TZOFFSETFROM:+0200
TZOFFSETTO:+0100
TZNAME:CET
DTSTART:20261025T010000
END:STANDARD
BEGIN:DAYLIGHT
TZOFFSETFROM:+0100
TZOFFSETTO:+0200
TZNAME:CEST
DTSTART:20270328T010000
END:DAYLIGHT
BEGIN:STANDARD
TZOFFSETFROM:+0200
TZOFFSETTO:+0100
TZNAME:CET
DTSTART:20271031T010000
END:STANDARD
END:VTIMEZONE
BEGIN:VEVENT
DTSTART;TZID=Europe/Berlin:20260912T130000
DTEND;TZID=Europe/Berlin:20260912T170000
DTSTAMP:20260423T180427
CREATED:20241125T103004Z
LAST-MODIFIED:20251113T112358Z
UID:1971-1789218000-1789232400@arbeitsgemeinschaft-ruebelandbahn.de
SUMMARY:12.09.2026 HöhlenExpress
DESCRIPTION:Fahrkartenverkauf ab 12:00 Uhr im Bahnhof Blankenburg (Harz)\nAbfahrt Blankenburg (Harz)13:15 Uhr\nAnkunft Rübeland 13:55 Uhr\nAbfahrt Rübeland 15:55 Uhr\nAnkunft Blankenburg ( Harz ) 16:40 Uhr
URL:https://arbeitsgemeinschaft-ruebelandbahn.de/veranstaltungen/06-09-2025-hoehlenexpress/
LOCATION:Rübelandbahn\, Bahnhofstr. 4\, Blankenburg Harz\, Sachsen Anhalt\, 38889\, Deutschland
ATTACH;FMTTYPE=image/jpeg:https://arbeitsgemeinschaft-ruebelandbahn.de/wp-content/uploads/2025/11/Plakat-Sep.2026.jpg
ORGANIZER;CN="Arbeitsgemeinschaft-R%C3%BCbelandbahn":MAILTO:s.nickell@online.de
END:VEVENT
BEGIN:VEVENT
DTSTART;TZID=Europe/Berlin:20260913T130000
DTEND;TZID=Europe/Berlin:20260913T170000
DTSTAMP:20260423T180427
CREATED:20241125T102951Z
LAST-MODIFIED:20251113T112336Z
UID:1974-1789304400-1789318800@arbeitsgemeinschaft-ruebelandbahn.de
SUMMARY:13.09.2026 HöhlenExpress
DESCRIPTION:Fahrkartenverkauf ab 12:00 Uhr im Bahnhof Blankenburg (Harz)\nAbfahrt Blankenburg (Harz)13:15 Uhr\nAnkunft Rübeland 13:55 Uhr\nAbfahrt Rübeland 15:55 Uhr\nAnkunft Blankenburg ( Harz ) 16:40 Uhr
URL:https://arbeitsgemeinschaft-ruebelandbahn.de/veranstaltungen/07-09-2025-hoehlenexpress/
LOCATION:Rübelandbahn\, Bahnhofstr. 4\, Blankenburg Harz\, Sachsen Anhalt\, 38889\, Deutschland
ATTACH;FMTTYPE=image/jpeg:https://arbeitsgemeinschaft-ruebelandbahn.de/wp-content/uploads/2025/11/Plakat-Sep.2026.jpg
ORGANIZER;CN="Arbeitsgemeinschaft-R%C3%BCbelandbahn":MAILTO:s.nickell@online.de
END:VEVENT
END:VCALENDAR