BEGIN:VCALENDAR
VERSION:2.0
PRODID:-// - ECPv6.15.20//NONSGML v1.0//EN
CALSCALE:GREGORIAN
METHOD:PUBLISH
X-ORIGINAL-URL:https://arbeitsgemeinschaft-ruebelandbahn.de
X-WR-CALDESC:Veranstaltungen für 
REFRESH-INTERVAL;VALUE=DURATION:PT1H
X-Robots-Tag:noindex
X-PUBLISHED-TTL:PT1H
BEGIN:VTIMEZONE
TZID:Europe/Berlin
BEGIN:DAYLIGHT
TZOFFSETFROM:+0100
TZOFFSETTO:+0200
TZNAME:CEST
DTSTART:20250330T010000
END:DAYLIGHT
BEGIN:STANDARD
TZOFFSETFROM:+0200
TZOFFSETTO:+0100
TZNAME:CET
DTSTART:20251026T010000
END:STANDARD
BEGIN:DAYLIGHT
TZOFFSETFROM:+0100
TZOFFSETTO:+0200
TZNAME:CEST
DTSTART:20260329T010000
END:DAYLIGHT
BEGIN:STANDARD
TZOFFSETFROM:+0200
TZOFFSETTO:+0100
TZNAME:CET
DTSTART:20261025T010000
END:STANDARD
BEGIN:DAYLIGHT
TZOFFSETFROM:+0100
TZOFFSETTO:+0200
TZNAME:CEST
DTSTART:20270328T010000
END:DAYLIGHT
BEGIN:STANDARD
TZOFFSETFROM:+0200
TZOFFSETTO:+0100
TZNAME:CET
DTSTART:20271031T010000
END:STANDARD
END:VTIMEZONE
BEGIN:VEVENT
DTSTART;TZID=Europe/Berlin:20260404T130000
DTEND;TZID=Europe/Berlin:20260404T130000
DTSTAMP:20260419T165631
CREATED:20241125T103136Z
LAST-MODIFIED:20260224T062234Z
UID:1953-1775307600-1775307600@arbeitsgemeinschaft-ruebelandbahn.de
SUMMARY:04.04.2026 Theater/OsterExpress
DESCRIPTION:OsterExpress \n\nVielen Dank für das große Interesse!Die Veranstaltung ist inzwischen leider ausverkauft. Wir freuen uns\, Sie bei einer unserer nächsten Veranstaltungen begrüßen zu dürfen. \n\nSamstag 04.04.2026 \nOstersamstag verkehren wir zwischen Blankenburg (Harz) und Rübeland. Gleichzeitig bieten wir Euch ein besonderes Osterevent für die ganze Familie an !\nAm 01. April startet der TheaterExpress – die historische Dampflok 95027 – aus Blankenburg und fährt euch zu uns in den Höhlenort Rübeland.\nIm wunderschönen Ambiente des Goethesaals in der Baumannshöhle erwartet euch dann das Theater-Stück „Reise zum Mittelpunkt der Erde „. Im Anschluss bringt euch die „Bergkönigin“ wieder zurück nach Blankenburg.\nAlle Infos und Tickets zum Kombi-Angebot findet ihr ab sofort unter harzer-hoehlen.de/theaterexpress\nDie #harzerhoehlen\, die ArGe Rübelandbahn – Bergkönigin 95 027 und das Freie Theater Harz freuen uns sich auf viele kleine und große Dampflok-/Theater- und Höhlen-Fans \nSelbstverständlich ist an diesem Tag der Osterhase mit kleinen Überraschungen auch dabei. \nSie haben mit der Dampflokfahrt die Möglichkeit\, ein paar Sonderstempel zu sammeln!\n1 Sonderstempel im Bahnhof Blankenburg (Harz)\n2 Sonderstempel im Zug\n1 Sonderstempel am Hohen Kleef (kurze Wanderung in Rübeland mit toller Aussicht) \n13:15 Uhr Abfahrt von Blankenburg (Harz) – 14:00 Uhr Ankunft in Rübeland – 15:55 Uhr Abfahrt von Rübeland – 16:40 Uhr Ankunft in Blankenburg (Harz) \nReise zum Mittelpunkt der Erde \nDie Reise zum Mittelpunkt der Erde (Voyage au centre de la terre) ist einer der bekanntesten Romane des französischen Schriftstellers Jules Verne. Der Roman ist eine fantastische Erzählung über eine zweimonatige Reise\, in der unter der Erdoberfläche die Distanz von 5000 Kilometern zwischen einem isländischen und einem italienischen Vulkan zurückgelegt wird. Da diese fiktive Reise als wissenschaftliche Expedition begonnen und immer wieder durch die Diskussion wissenschaftlicher Hypothesen geprägt wird\, lässt sich dieser Roman als einer der ersten dem Genre der Science-Fiction zuordnen. \nDas Buch wurde erstmals 1864 von dem Verleger Pierre-Jules Hetzel unter dem französischen Titel Voyage au centre de la terre veröffentlicht. Die erste deutschsprachige Ausgabe erschien 1873 unter dem Titel Reise nach dem Mittelpunkt der Erde. \nAutor Wikipedia \nSie haben mit der Dampflokfahrt die Möglichkeit\, ein paar Sonderstempel zu sammeln!\n1 Sonderstempel im Bahnhof Blankenburg (Harz)\n2 Sonderstempel im Zug\n1 Sonderstempel am Hohen Kleef (kurze Wanderung in Rübeland mit toller Aussicht) \nFahrkartenverkauf ab 12:00 Uhr im Bahnhof Blankenburg (Harz) \nFahrkartenverkauf ab 12:00 Uhr im Bahnhof Blankenburg (Harz)\nAbfahrt Blankenburg (Harz)13:15 Uhr\nAnkunft Rübeland 13:55 Uhr\nAbfahrt Rübeland 15:55 Uhr\nAnkunft Blankenburg ( Harz ) 16:40 Uhr
URL:https://arbeitsgemeinschaft-ruebelandbahn.de/veranstaltungen/04-04-2026-theaterexpressostern/
LOCATION:Rübelandbahn\, Bahnhofstr. 4\, Blankenburg Harz\, Sachsen Anhalt\, 38889\, Deutschland
ATTACH;FMTTYPE=image/jpeg:https://arbeitsgemeinschaft-ruebelandbahn.de/wp-content/uploads/2024/11/April-2026.jpg
ORGANIZER;CN="Arbeitsgemeinschaft-R%C3%BCbelandbahn":MAILTO:s.nickell@online.de
END:VEVENT
BEGIN:VEVENT
DTSTART;TZID=Europe/Berlin:20260403T110000
DTEND;TZID=Europe/Berlin:20260403T190000
DTSTAMP:20260419T165631
CREATED:20241125T103150Z
LAST-MODIFIED:20260123T121035Z
UID:1950-1775214000-1775242800@arbeitsgemeinschaft-ruebelandbahn.de
SUMMARY:Rübelandbahn OsterExpress Blankenburg - Halberstadt - Blankenburg - Halberstadt - Blankenburg
DESCRIPTION:OsterExpress KFreitag \nEin ereignisreiches Oster Wochenende für die ganze Familie steht bevor! Am Karfreitag\, den 03.04.2026 ist es so weit\, der Osterhase fährt von Blankenburg (Harz) nach Halberstadt und zurück. und Anschließend auch auf der Rübelandbahn nach Rübeland hin und zurück über Blankenburg ( Harz) nach Halberstadt ! Begleitet uns auf der schönen Dampflokfahrt mit der 95 027 und dem Osterhasen. Eine kleine Osterüberraschung für unsere kleinen Fahrgäste hat er schon in sein Körbchen eingepackt.\nFür alle Stempeljäger!!\nSie haben mit der Dampflokfahrt die Möglichkeit\, ein paar Sonderstempel zu sammeln!\n1 Sonderstempel im Bahnhof Blankenburg (Harz)\n2 Sonderstempel im Zug\n1 Sonderstempel am Hohen Kleef (kurze Wanderung in Rübeland mit toller Aussicht) \nDer Förderverein Rübelandbahn mit der Mammut\, hat selbstverständlich auch seine Türen für Euch geöffnet. \nFahrzeiten am Karfreitag\, den 03.04.2026 \nAbfahrt nach Halberstadt \n11:00 Uhr Abfahrt Blankenburg (Harz)\n11:31 Uhr Ankunft Halberstadt \nAbfahrt nach Blankenburg ( Harz) \n12:25 Uhr Abfahrt Halberstadt\n12:56Uhr Ankunft Blankenburg (Harz) \nAbfahrt nach Rübeland \n13:15 Uhr Abfahrt Blankenburg (Harz)\n14:00Uhr Ankunft Rübeland \nAbfahrt nach Blankenburg ( Harz) \n15:55 Uhr Abfahrt Rübeland\n16:40 Uhr Ankunft Blankenburg (Harz) \nAbfahrt nach Halberstadt \n17:00 Uhr Abfahrt Blankenburg (Harz)\n17:31 Uhr Ankunft Halberstadt \nAbfahrt nach Blankenburg ( Harz) \n18:25 Uhr Abfahrt Halberstadt\n18:56 Uhr Ankunft Blankenburg (Harz) \n  \n 
URL:https://arbeitsgemeinschaft-ruebelandbahn.de/veranstaltungen/ruebelandbahn-osterexpress-blankenburg-halberstadt-blankenburg-halberstadt-blankenburg/
LOCATION:Rübelandbahn\, Bahnhofstr. 4\, Blankenburg Harz\, Sachsen Anhalt\, 38889\, Deutschland
ATTACH;FMTTYPE=image/jpeg:https://arbeitsgemeinschaft-ruebelandbahn.de/wp-content/uploads/2025/11/HBS-BLKBG-RUeBE-April-2026.jpg
ORGANIZER;CN="Arbeitsgemeinschaft-R%C3%BCbelandbahn":MAILTO:s.nickell@online.de
END:VEVENT
BEGIN:VEVENT
DTSTART;TZID=Europe/Berlin:20260322T130000
DTEND;TZID=Europe/Berlin:20260322T170000
DTSTAMP:20260419T165631
CREATED:20241125T103202Z
LAST-MODIFIED:20260309T124921Z
UID:1948-1774184400-1774198800@arbeitsgemeinschaft-ruebelandbahn.de
SUMMARY:22.03.2026 HöhlenExpress
DESCRIPTION:Fahrkartenverkauf ab 12:00 Uhr im Bahnhof Blankenburg (Harz)\nAbfahrt Blankenburg (Harz)13:15 Uhr\nAnkunft Rübeland 13:55 Uhr\nAbfahrt Rübeland 15:55 Uhr\nAnkunft Blankenburg ( Harz ) 16:40 Uhr \nHöhlenExpress \nHöhlenExpress \n  \nAm 21. und 22. März können die Fahrgäste der Rübelandbahn die Baumannshöhle zum reduzierten Preis besichtigen.\nWenn am 21.und 22. März die Bergkönigin von Blankenburg in den Höhlenort Rübeland „schnauft“\, erwartet die Fahrtgäste dort ein besonderes Angebot: wer seinen gültigen Fahrschein an der Tageskasse der Baumannshöhle vorzeigt\, kann zum reduzierten Preis von 7 EUR an einer Höhlenführung teilnehmen.\nDas Angebot gilt für die Führungen am Samstag den 21.03 und Sonntag\, den 22.3\, im Zeitraum von 14.00 – 14.50 Uhr je nach Verfügbarkeit. Voraussetzung ist die Vorlage des tagesaktuellen Fahrscheines der Rübelandbahn.\, oder Sie lassen sich in einer der gemütlichen Gastrotomien auf einen Kaffee und ein Stück Kuchen nieder. Der Förderverein Rübelandbahn hat auch seine Türen zur Besichtigung und Gespräche geöffnet.\nWir freuen uns auf eine gemütliche Fahrt mit Ihnen
URL:https://arbeitsgemeinschaft-ruebelandbahn.de/veranstaltungen/22-03-2026-hoehlenexpress/
LOCATION:Rübelandbahn\, Bahnhofstr. 4\, Blankenburg Harz\, Sachsen Anhalt\, 38889\, Deutschland
ATTACH;FMTTYPE=image/jpeg:https://arbeitsgemeinschaft-ruebelandbahn.de/wp-content/uploads/2025/11/Plakat-Maerz-2026.jpg
ORGANIZER;CN="Arbeitsgemeinschaft-R%C3%BCbelandbahn":MAILTO:s.nickell@online.de
END:VEVENT
BEGIN:VEVENT
DTSTART;TZID=Europe/Berlin:20260321T130000
DTEND;TZID=Europe/Berlin:20260321T130000
DTSTAMP:20260419T165631
CREATED:20241125T103214Z
LAST-MODIFIED:20260309T125003Z
UID:1946-1774098000-1774098000@arbeitsgemeinschaft-ruebelandbahn.de
SUMMARY:21.03.2026 HöhlenExpress
DESCRIPTION:Fahrkartenverkauf ab 12:00 Uhr im Bahnhof Blankenburg (Harz)\nAbfahrt Blankenburg (Harz)13:15 Uhr\nAnkunft Rübeland 13:55 Uhr\nAbfahrt Rübeland 15:55 Uhr\nAnkunft Blankenburg ( Harz ) 16:40 Uhr \nHöhlenExpress \n  \nAm 21. und 22. März können die Fahrgäste der Rübelandbahn die Baumannshöhle zum reduzierten Preis besichtigen.\nWenn am 21.und 22. März die Bergkönigin von Blankenburg in den Höhlenort Rübeland „schnauft“\, erwartet die Fahrtgäste dort ein besonderes Angebot: wer seinen gültigen Fahrschein an der Tageskasse der Baumannshöhle vorzeigt\, kann zum reduzierten Preis von 7 EUR an einer Höhlenführung teilnehmen.\nDas Angebot gilt für die Führungen am Samstag den 21.03 und Sonntag\, den 22.3\, im Zeitraum von 14.00 – 14.50 Uhr je nach Verfügbarkeit. Voraussetzung ist die Vorlage des tagesaktuellen Fahrscheines der Rübelandbahn.\, oder Sie lassen sich in einer der gemütlichen Gastrotomien auf einen Kaffee und ein Stück Kuchen nieder. Der Förderverein Rübelandbahn hat auch seine Türen zur Besichtigung und Gespräche geöffnet.\nWir freuen uns auf eine gemütliche Fahrt mit Ihnen
URL:https://arbeitsgemeinschaft-ruebelandbahn.de/veranstaltungen/21-03-2026-hoehlenexpress/
LOCATION:Rübelandbahn\, Bahnhofstr. 4\, Blankenburg Harz\, Sachsen Anhalt\, 38889\, Deutschland
ATTACH;FMTTYPE=image/jpeg:https://arbeitsgemeinschaft-ruebelandbahn.de/wp-content/uploads/2025/11/Plakat-Maerz-2026.jpg
ORGANIZER;CN="Arbeitsgemeinschaft-R%C3%BCbelandbahn":MAILTO:s.nickell@online.de
END:VEVENT
END:VCALENDAR