BEGIN:VCALENDAR
VERSION:2.0
PRODID:-// - ECPv6.15.20//NONSGML v1.0//EN
CALSCALE:GREGORIAN
METHOD:PUBLISH
X-ORIGINAL-URL:https://arbeitsgemeinschaft-ruebelandbahn.de
X-WR-CALDESC:Veranstaltungen für 
REFRESH-INTERVAL;VALUE=DURATION:PT1H
X-Robots-Tag:noindex
X-PUBLISHED-TTL:PT1H
BEGIN:VTIMEZONE
TZID:Europe/Berlin
BEGIN:DAYLIGHT
TZOFFSETFROM:+0100
TZOFFSETTO:+0200
TZNAME:CEST
DTSTART:20250330T010000
END:DAYLIGHT
BEGIN:STANDARD
TZOFFSETFROM:+0200
TZOFFSETTO:+0100
TZNAME:CET
DTSTART:20251026T010000
END:STANDARD
BEGIN:DAYLIGHT
TZOFFSETFROM:+0100
TZOFFSETTO:+0200
TZNAME:CEST
DTSTART:20260329T010000
END:DAYLIGHT
BEGIN:STANDARD
TZOFFSETFROM:+0200
TZOFFSETTO:+0100
TZNAME:CET
DTSTART:20261025T010000
END:STANDARD
BEGIN:DAYLIGHT
TZOFFSETFROM:+0100
TZOFFSETTO:+0200
TZNAME:CEST
DTSTART:20270328T010000
END:DAYLIGHT
BEGIN:STANDARD
TZOFFSETFROM:+0200
TZOFFSETTO:+0100
TZNAME:CET
DTSTART:20271031T010000
END:STANDARD
END:VTIMEZONE
BEGIN:VEVENT
DTSTART;TZID=Europe/Berlin:20261206T130000
DTEND;TZID=Europe/Berlin:20261206T170000
DTSTAMP:20260425T134459
CREATED:20241125T102853Z
LAST-MODIFIED:20260212T064913Z
UID:1986-1796562000-1796576400@arbeitsgemeinschaft-ruebelandbahn.de
SUMMARY:06.12.2026 Rübelandbahn -  NikolausExpress
DESCRIPTION:Fahrkartenverkauf ab 12:00 Uhr im Bahnhof Blankenburg (Harz)\nAbfahrt Blankenburg (Harz)13:15 Uhr\nAnkunft Rübeland 13:55 Uhr\nAbfahrt Rübeland 15:55 Uhr\nAnkunft Blankenburg ( Harz ) 16:40 Uhr \nNikolausExpress \nAm Samstag\, den 06.12.2026 ist es wieder soweit\,  auf einer der beeindruckendsten Steilstrecken durch die wunderschöne und sehenswerte Harzlandschaft. Erleben sie eine Fahrt nach Rübeland der besonderen Art. Der Nikolaus erwartet seine Kleinen Fahrgäste mit einer süßen Überraschung!\nAn beiden Tagen fährt die Rübelandbahn auf einer der schönsten und sehenswertesten Steilstrecken durch den Harzer Wald\, bis nach Rübeland. Karten gibt es ab 12.00 Uhr im Bahnhof Blankenburg Harz.\nLos geht es wie immer am Bahnhof in Blankenburg (Harz) um 13.15 Uhr\nAnkunft in Rübeland am Bahnhof ist dann um 14.00 Uhr.\nZurück nach Blankenburg (Harz) geht es dann wieder vom Bahnhof Rübeland um 15.55 Uhr\, so dass um 16.40 Uhr im Bahnhof Blankenburg (Harz) die 95 027 ankommt.
URL:https://arbeitsgemeinschaft-ruebelandbahn.de/veranstaltungen/06-12-2025-ruebelandbahn-nikolaustheaterexpress/
LOCATION:Rübelandbahn\, Bahnhofstr. 4\, Blankenburg Harz\, Sachsen Anhalt\, 38889\, Deutschland
ATTACH;FMTTYPE=image/jpeg:https://arbeitsgemeinschaft-ruebelandbahn.de/wp-content/uploads/2026/01/Dezember-2.jpg
ORGANIZER;CN="Arbeitsgemeinschaft-R%C3%BCbelandbahn":MAILTO:s.nickell@online.de
END:VEVENT
END:VCALENDAR