BEGIN:VCALENDAR
VERSION:2.0
PRODID:-// - ECPv6.15.20//NONSGML v1.0//EN
CALSCALE:GREGORIAN
METHOD:PUBLISH
X-ORIGINAL-URL:https://arbeitsgemeinschaft-ruebelandbahn.de
X-WR-CALDESC:Veranstaltungen für 
REFRESH-INTERVAL;VALUE=DURATION:PT1H
X-Robots-Tag:noindex
X-PUBLISHED-TTL:PT1H
BEGIN:VTIMEZONE
TZID:Europe/Berlin
BEGIN:DAYLIGHT
TZOFFSETFROM:+0100
TZOFFSETTO:+0200
TZNAME:CEST
DTSTART:20250330T010000
END:DAYLIGHT
BEGIN:STANDARD
TZOFFSETFROM:+0200
TZOFFSETTO:+0100
TZNAME:CET
DTSTART:20251026T010000
END:STANDARD
BEGIN:DAYLIGHT
TZOFFSETFROM:+0100
TZOFFSETTO:+0200
TZNAME:CEST
DTSTART:20260329T010000
END:DAYLIGHT
BEGIN:STANDARD
TZOFFSETFROM:+0200
TZOFFSETTO:+0100
TZNAME:CET
DTSTART:20261025T010000
END:STANDARD
BEGIN:DAYLIGHT
TZOFFSETFROM:+0100
TZOFFSETTO:+0200
TZNAME:CEST
DTSTART:20270328T010000
END:DAYLIGHT
BEGIN:STANDARD
TZOFFSETFROM:+0200
TZOFFSETTO:+0100
TZNAME:CET
DTSTART:20271031T010000
END:STANDARD
END:VTIMEZONE
BEGIN:VEVENT
DTSTART;TZID=Europe/Berlin:20260516T130000
DTEND;TZID=Europe/Berlin:20260516T170000
DTSTAMP:20260423T134134
CREATED:20241125T103103Z
LAST-MODIFIED:20260420T091226Z
UID:1959-1778936400-1778950800@arbeitsgemeinschaft-ruebelandbahn.de
SUMMARY:16.05.2026 SägewerkExpress
DESCRIPTION:Fahrkartenverkauf ab 12:00 Uhr im Bahnhof Blankenburg (Harz)\nAbfahrt Blankenburg (Harz)13:15 Uhr\nAnkunft Rübeland 13:55 Uhr\nAbfahrt Rübeland 15:55 Uhr\nAnkunft Blankenburg ( Harz ) 16:40 Uhr \nSchausägewerkExpress \n\nDampflok 95 027 trifft Sägewerk!\n\n\nTag der offenen Tür im Schausägewerk !\n\n\nGastgeber wird die „Tischlerei & Schausägewerk Ehrt” in Kooperation mit der AFG mbH Harz sein.\n\n\nAb Freitag\, den 15.05.2026 bis Sonntag\, den 17.05.2026 findet jeweils in der Zeit von 11.00-16.00 Uhr der „ Tag des offenen Schausägewerks” statt.\n\n\nAbfahrt Blankenburg (Harz) 13:15 Uhr\n\n\nAnkunft Rübeland 13:55 Uhr\n\n\nAbfahrt Rübeland 15:55 Uhr\n\n\nAnkunft Blankenburg ( Harz ) 16:40 Uhr\n\n\nAlso nichts wie ran ans HOLZ. Erleben Sie\, wie unsere Vorfahren die Holzstämme bearbeitet haben. Zusehen mit der alten Sägewerks- und Holzbearbeitungstechnik!\n\n\nDie Arbeitsgemeinschft-Rübelandbahn bietet dies als Komplett Paket für unsere Gäste an !\n\n\nEs ist wieder soweit\, erleben Sie eine Fahrt nach Rübeland der besonderen Art. Begeben Sie sich zusammen mit Ihren Lieben am Samstag als auch am Sonntag auf eine romantische Dampfzugreise.\n\n\nDieses Mal 3 Tage nacheinander\, ab Freitag\, dem 15.05.2026 bis Sonntag\, den 17.05.2026 alle begeisterten Technikfreunde und die\, die es werden möchten recht herzlich eingeladen\n\n\neinen kostenlosen Transfer vom Bahnhof Rübeland zum „Schausägewerk Ehrt” in Elbingerode zu nutzen.\n\n\nDort können Sie noch alte Sägegatter in Funktion erleben.\n\n\nVorort gibt es auch einen Sonderstempel der Harzer Wandernadel!\n\n\nWir empfehlen eine Reservierung per E-Mail oder telefonisch über www.arbeitsgemeinschaft-ruebelandbahn.de.\n\n\nFür Ihren Aufenthalt in Rübeland empfehlen wir dort einen Besuch in der Baumannshöhle\, Natürlich steht die 95 6676 wieder vor dem Lokschuppen zur Besichtigung bereit.#magdeburg #sägewerk #halberstadt #thale #quedlinburg #salzgitter #harzerwandernadel_official #Blankenburg #theaterliebe #braunschweig #theaterlife #Dampfzug #harz #harzliebe #harzerwandernadel #dampflokomotive #goslar #blankenburgharz #blankenburg #wernigerode #harzmountains #dampflok #harzmomente #harzkind #harzmomente #r
URL:https://arbeitsgemeinschaft-ruebelandbahn.de/veranstaltungen/16-05-2026-saegewerkexpress/
LOCATION:Rübelandbahn\, Bahnhofstr. 4\, Blankenburg Harz\, Sachsen Anhalt\, 38889\, Deutschland
ATTACH;FMTTYPE=image/jpeg:https://arbeitsgemeinschaft-ruebelandbahn.de/wp-content/uploads/2024/11/Unbenannt-1.jpg
ORGANIZER;CN="Arbeitsgemeinschaft-R%C3%BCbelandbahn":MAILTO:s.nickell@online.de
END:VEVENT
END:VCALENDAR